BEGIN:VCALENDAR
VERSION:2.0
PRODID:-//Optimizing Me - ECPv6.15.20//NONSGML v1.0//EN
CALSCALE:GREGORIAN
METHOD:PUBLISH
X-WR-CALNAME:Optimizing Me
X-ORIGINAL-URL:https://jjruescas.com
X-WR-CALDESC:Events for Optimizing Me
REFRESH-INTERVAL;VALUE=DURATION:PT1H
X-Robots-Tag:noindex
X-PUBLISHED-TTL:PT1H
BEGIN:VTIMEZONE
TZID:America/Chicago
BEGIN:DAYLIGHT
TZOFFSETFROM:-0600
TZOFFSETTO:-0500
TZNAME:CDT
DTSTART:20240310T080000
END:DAYLIGHT
BEGIN:STANDARD
TZOFFSETFROM:-0500
TZOFFSETTO:-0600
TZNAME:CST
DTSTART:20241103T070000
END:STANDARD
BEGIN:DAYLIGHT
TZOFFSETFROM:-0600
TZOFFSETTO:-0500
TZNAME:CDT
DTSTART:20250309T080000
END:DAYLIGHT
BEGIN:STANDARD
TZOFFSETFROM:-0500
TZOFFSETTO:-0600
TZNAME:CST
DTSTART:20251102T070000
END:STANDARD
BEGIN:DAYLIGHT
TZOFFSETFROM:-0600
TZOFFSETTO:-0500
TZNAME:CDT
DTSTART:20260308T080000
END:DAYLIGHT
BEGIN:STANDARD
TZOFFSETFROM:-0500
TZOFFSETTO:-0600
TZNAME:CST
DTSTART:20261101T070000
END:STANDARD
END:VTIMEZONE
BEGIN:VEVENT
DTSTART;TZID=America/Chicago:20250706T093000
DTEND;TZID=America/Chicago:20250706T233000
DTSTAMP:20260420T075851
CREATED:20250628T015232Z
LAST-MODIFIED:20250628T015233Z
UID:20003509-1751794200-1751844600@jjruescas.com
SUMMARY:108 Sun Salutations & Breathwork
DESCRIPTION:Join us for a sacred morning of embodied intention and conscious connection. Led by Tessa Owens from Houston and featuring JJ Ruescas\, this moving meditation will guide you through 108 Sun Salutations — organized into 9 intentional sets of 12\, each one aligned with the chakras\, the elements\, and deeper aspects of the Self. \n🌬️ JJ will open the event by introducing the power of Breathwork\, sharing how it can unlock energy\, clarity\, and presence throughout your practice.🌀 Tessa will guide us through this devotional flow\, incorporating ritual\, ceremony\, and deep intentionality into each movement. \n✨ Between sets\, we pause and breathe with JJ’s guidance — using breathwork to integrate the experience\, regulate the nervous system\, and ground awareness.Tessa will remind us throughout that this is not just movement — it’s a living prayer\, a meditation in motion. \nThis is a unique opportunity to experience JJ’s signature breathwork approach woven into a powerful ceremonial practice led by Tessa — blending movement\, mindfulness\, and deep energetic renewal. \n📍 Casa de Luz\, Austin \n📆 Sunday\, July 6th \n🕤 9:30 AM – 11:30 AM \n🎟 $25 | Limited Spaces \n🧘‍♂️ Bring your yoga mat\, water\, and an open heart. All levels welcome. \n🎟️ You can get your tickets on any of these three platforms — choose the one you prefer: \n• Eventbrite• Partiful• SweatPals\n✨ This is a special session\, not part of our regular schedule — created in celebration of Tessa Owens’ visit to Austin. Don’t miss this unique opportunity to experience a powerful blend of breath\, movement\, and ceremony. \nSee you Sunday for this beautiful and transformative morning. \n  \n  \n  \n 
URL:https://jjruescas.com/event/108-sun-salutations-breathwork/
LOCATION:Casa de Luz Village\, 1701 Toomey Road\, Austin\, TX\, 78704\, United States
ATTACH;FMTTYPE=image/jpeg:https://jjruescas.com/wp-content/uploads/2025/06/Horizontal-Banners-v2.jpg
END:VEVENT
END:VCALENDAR