BEGIN:VCALENDAR
VERSION:2.0
PRODID:-//Optimizing Me - ECPv6.15.20//NONSGML v1.0//EN
CALSCALE:GREGORIAN
METHOD:PUBLISH
X-WR-CALNAME:Optimizing Me
X-ORIGINAL-URL:https://jjruescas.com
X-WR-CALDESC:Events for Optimizing Me
REFRESH-INTERVAL;VALUE=DURATION:PT1H
X-Robots-Tag:noindex
X-PUBLISHED-TTL:PT1H
BEGIN:VTIMEZONE
TZID:Europe/London
BEGIN:DAYLIGHT
TZOFFSETFROM:+0000
TZOFFSETTO:+0100
TZNAME:BST
DTSTART:20240331T010000
END:DAYLIGHT
BEGIN:STANDARD
TZOFFSETFROM:+0100
TZOFFSETTO:+0000
TZNAME:GMT
DTSTART:20241027T010000
END:STANDARD
BEGIN:DAYLIGHT
TZOFFSETFROM:+0000
TZOFFSETTO:+0100
TZNAME:BST
DTSTART:20250330T010000
END:DAYLIGHT
BEGIN:STANDARD
TZOFFSETFROM:+0100
TZOFFSETTO:+0000
TZNAME:GMT
DTSTART:20251026T010000
END:STANDARD
BEGIN:DAYLIGHT
TZOFFSETFROM:+0000
TZOFFSETTO:+0100
TZNAME:BST
DTSTART:20260329T010000
END:DAYLIGHT
BEGIN:STANDARD
TZOFFSETFROM:+0100
TZOFFSETTO:+0000
TZNAME:GMT
DTSTART:20261025T010000
END:STANDARD
END:VTIMEZONE
BEGIN:VEVENT
DTSTART;TZID=Europe/London:20250914T110000
DTEND;TZID=Europe/London:20250914T114500
DTSTAMP:20260422T052350
CREATED:20250811T025956Z
LAST-MODIFIED:20250901T015347Z
UID:20004120-1757847600-1757850300@jjruescas.com
SUMMARY:BW at HOSummit London 2025 [UK Edition]
DESCRIPTION:O₂ Upgrade: Syncing Breath\, Energy & Connection\nStep into an immersive breath experience where community\, connection\, and system coherence take center stage. With modern sound technology\, JJ Ruescas − Human Optimization Strategist − will guide you through a rhythmic group journey designed to upgrade your nervous system\, unlock non-ordinary states\, and synchronize collective energy. \nThis isn’t just breathwork—it’s a tribal experience\, blending ancient techniques with cutting-edge wellness technology for deep connection and transformation. \n🔥Join JJ live at the Health Optimisation Summit London 2025 [UK Edition] and experience it for yourself in these two powerful sessions: \n \nEnjoy 10% off with code: JJRUESCAS \n \n GET YOUR TICKETS HERE  
URL:https://jjruescas.com/event/bw-at-hosummit-london-2025-uk-edition2/
LOCATION:Business Design Centre\, 52 Upper St\, London\, N1 0QH\, London\, United Kingdom
ATTACH;FMTTYPE=image/png:https://jjruescas.com/wp-content/uploads/2025/08/HOS-JJ-London.png
END:VEVENT
END:VCALENDAR